BEGIN:VCALENDAR
METHOD:PUBLISH
PRODID:www-pol-phil-fau-eu//Events//EN
VERSION:2.0
BEGIN:VEVENT
SUMMARY:Vortrag “Preserving Taiwan’s Freedom” von Margaret Lewis
  (Seton Hall University)
UID:040000008200E00074C5B7101A82E00800000000F804AAA070FAD9010000000000
 000000100000006F2B153CC5A5174A85C46E9BA73EA0A1
DESCRIPTION:Mehr Infos: https://www.pol.phil.fau.de/2023/10/09/vortrag
 -preserving-taiwans-freedom-the-january-2024-elections-and-beyond/ Mor
 e information: https://www.pol.phil.fau.eu/2023/10/09/vortrag-preservi
 ng-taiwans-freedom-von-margaret-lewis-seton-hall-university-am-24-10-2
 023/
DTSTART:20231024T181500Z
DTEND:20231024T201500Z
LOCATION:Senatssaal im Kollegienhaus (KH 1.011)\, Universitätsstraße 15
DTSTAMP:20260420T094252Z
END:VEVENT
END:VCALENDAR